BEGIN:VCALENDAR
VERSION:2.0
PRODID:Events Booking
BEGIN:VEVENT
UID:69ed032d1019b
SUMMARY:Sailing from Herrliberg
DESCRIPTION:
LOCATION:Restaurant il Faro
DTSTART:20250903T172000Z
DTEND:20250903T194500Z
DTSTAMP:20250902T123101Z
ORGANIZER;CN=ZISC Events:MAILTO:info@zisc.club
END:VEVENT
END:VCALENDAR