BEGIN:VCALENDAR
VERSION:2.0
PRODID:Events Booking
BEGIN:VEVENT
UID:69ed1353dc9c9
SUMMARY:Thalwil sailing
DESCRIPTION:
LOCATION:Seestrasse 111\, 8800 Thalwil
DTSTART:20251001T153000Z
DTEND:20251001T193000Z
DTSTAMP:20250930T143048Z
ORGANIZER;CN=ZISC Events:MAILTO:info@zisc.club
GEO:47.294644;8.57013
X-APPLE-STRUCTURED-LOCATION;VALUE=URI;X-ADDRESS=Seestrasse 111\, 8800 Thalw
 il;X-APPLE-RADIUS=72;X-TITLE=Thalwil Hafen:47.294644;8.57013
END:VEVENT
END:VCALENDAR