BEGIN:VCALENDAR
VERSION:2.0
PRODID:Events Booking
BEGIN:VEVENT
UID:69ed20a41200a
SUMMARY:Heavy weather and storm sailing: experience sharing
DESCRIPTION:See detailed description&nbsp\;
LOCATION:Sihlquai\, Zurich\, 8005 Zurich\, Switzerland
DTSTART:20251106T190000Z
DTEND:20251106T210000Z
DTSTAMP:20251017T124004Z
ORGANIZER;CN=ZISC Events:MAILTO:info@zisc.club
GEO:0;8.533678
X-APPLE-STRUCTURED-LOCATION;VALUE=URI;X-ADDRESS=Sihlquai\, Zurich\, 8005 Zu
 rich\, Switzerland;X-APPLE-RADIUS=72;X-TITLE=auer & co:0;8.533678
END:VEVENT
END:VCALENDAR