BEGIN:VCALENDAR
VERSION:2.0
PRODID:Events Booking
BEGIN:VEVENT
UID:69ed371166dd4
SUMMARY:(Not The) End of Season Party 
DESCRIPTION:It's that time of the year again - (NOT) The end of Season Part
 y!
LOCATION:Zurich\, Switzerland
DTSTART:20251125T183000Z
DTEND:20251125T230000Z
DTSTAMP:20251025T082752Z
ORGANIZER;CN=ZISC Events:MAILTO:info@zisc.club
GEO:47.374449;8.541042
X-APPLE-STRUCTURED-LOCATION;VALUE=URI;X-ADDRESS=Zurich\, Switzerland;X-APPL
 E-RADIUS=72;X-TITLE=Zurich:47.374449;8.541042
END:VEVENT
END:VCALENDAR