BEGIN:VCALENDAR
VERSION:2.0
PRODID:Events Booking
BEGIN:VEVENT
UID:69ecdc3b14610
SUMMARY:Shoggi Cup
DESCRIPTION:ACT 1. Zürichsee Langstrecken Cup event.
 Join the Shoggi Cup
 \, the traditional opening race of the Zürichsee Langstrecken Cup. Starti
 ng off Kilchberg\, this long-distance regatta combines tactical sailing\, 
 endurance\, and a relaxed atmosphere on Lake Zurich. Open to all ZLC-regis
 tered boats across multiple classes\, it’s the perfect way to kick off t
 he racing season—with chocolate prizes waiting at the finish.
 Login to
  see more details
DTSTART:20260501T090000Z
DTEND:20260501T160000Z
DTSTAMP:20251226T212040Z
ORGANIZER;CN=ZISC Events:MAILTO:info@zisc.club
END:VEVENT
END:VCALENDAR