BEGIN:VCALENDAR
VERSION:2.0
PRODID:Events Booking
BEGIN:VEVENT
UID:69ecdbd612b74
SUMMARY:Auffahrtsregatta 
DESCRIPTION:ACT 2. Zürichsee Langstrecken Cup event. Details to follow. 

  Dates provisional.
 Join waitlist to register interest.
LOCATION:Switzerland
DTSTART:20260530T090000Z
DTEND:20260530T160000Z
DTSTAMP:20251226T213706Z
ORGANIZER;CN=ZISC Events:MAILTO:info@zisc.club
GEO:47.279096;8.597868
X-APPLE-STRUCTURED-LOCATION;VALUE=URI;X-ADDRESS=Switzerland;X-APPLE-RADIUS=
 72;X-TITLE=Lake Zurich:47.279096;8.597868
END:VEVENT
END:VCALENDAR