BEGIN:VCALENDAR
VERSION:2.0
PRODID:Events Booking
BEGIN:VEVENT
UID:69ecdbfdcacff
SUMMARY:ZISC Regatta 2 – Pirate treasure hunt.
DESCRIPTION:ZISC Regatta 2 – The summer edition.&nbsp\;
 A Pirate-Treasu
 re-Hunt-Challenge
LOCATION:Switzerland
DTSTART:20260606T090000Z
DTEND:20260606T160000Z
DTSTAMP:20251228T214111Z
ORGANIZER;CN=ZISC Events:MAILTO:info@zisc.club
GEO:47.279096;8.597868
X-APPLE-STRUCTURED-LOCATION;VALUE=URI;X-ADDRESS=Switzerland;X-APPLE-RADIUS=
 72;X-TITLE=Lake Zurich:47.279096;8.597868
END:VEVENT
END:VCALENDAR