BEGIN:VCALENDAR
VERSION:2.0
PRODID:Events Booking
BEGIN:VEVENT
UID:69ecdbfdb2c54
SUMMARY:Cruising South Coast UK - Scilly Isles to Solent
DESCRIPTION:Join us cruising the stunning South Coast on a Pogo44 (yes that
  photo really is the Isles of Scilly in UK!)
LOCATION:Town Quay\, Cowes\, PO31 7AS England\, United Kingdom
DTSTART:20260702T090000Z
DTEND:20260708T150000Z
DTSTAMP:20260115T180426Z
ORGANIZER;CN=ZISC Events:MAILTO:info@zisc.club
GEO:50.761762;-1.296454
X-APPLE-STRUCTURED-LOCATION;VALUE=URI;X-ADDRESS=Town Quay\, Cowes\, PO31 7A
 S England\, United Kingdom;X-APPLE-RADIUS=72;X-TITLE=Cowes Yacht Haven:50.
 761762;-1.296454
END:VEVENT
END:VCALENDAR